BEGIN:VCALENDAR
VERSION:2.0
PRODID:spatie/icalendar-generator
DESCRIPTION:Events from Sofetch
X-WR-CALDESC:Events from Sofetch
REFRESH-INTERVAL;VALUE=DURATION:PT1440M
X-PUBLISHED-TTL:PT1440M
BEGIN:VTIMEZONE
TZID:Etc/GMT+0
BEGIN:STANDARD
DTSTART:20250610T190000Z
TZOFFSETFROM:+0000
TZOFFSETTO:+0000
END:STANDARD
END:VTIMEZONE
BEGIN:VTIMEZONE
TZID:UTC
BEGIN:STANDARD
DTSTART:20250725T193054Z
TZOFFSETFROM:+0000
TZOFFSETTO:+0000
END:STANDARD
END:VTIMEZONE
BEGIN:VEVENT
UID:665-221
DTSTAMP:20260421T193054Z
SUMMARY:MUSIC NIGHT: Jazz &amp;amp\; Blues
LOCATION:
ORGANIZER;CN=devCristina:MAILTO:cristina@pinksharkmarketing.com
DTSTART;TZID=Etc/GMT+0:20260307T190000
DTEND;TZID=Etc/GMT+0:20260307T210000
X-ALT-DESC;FMTTYPE=TEXT/HTML:Free entry\,
CATEGORIES:General
URL;VALUE=URI:https://sofetch.ca/mc-events/music-night-jazz-blues/?mc_id=66
 5
END:VEVENT
END:VCALENDAR