BEGIN:VCALENDAR
VERSION:2.0
PRODID:spatie/icalendar-generator
DESCRIPTION:Events from Sofetch
X-WR-CALDESC:Events from Sofetch
REFRESH-INTERVAL;VALUE=DURATION:PT1440M
X-PUBLISHED-TTL:PT1440M
BEGIN:VTIMEZONE
TZID:Etc/GMT+0
BEGIN:STANDARD
DTSTART:20250608T190000Z
TZOFFSETFROM:+0000
TZOFFSETTO:+0000
END:STANDARD
END:VTIMEZONE
BEGIN:VTIMEZONE
TZID:UTC
BEGIN:STANDARD
DTSTART:20250726T002225Z
TZOFFSETFROM:+0000
TZOFFSETTO:+0000
END:STANDARD
END:VTIMEZONE
BEGIN:VEVENT
UID:662-218
DTSTAMP:20260422T002225Z
SUMMARY:Westie Meet-Up
LOCATION:
ORGANIZER;CN=devCristina:MAILTO:cristina@pinksharkmarketing.com
DTSTART;TZID=Etc/GMT+0:20260305T190000
DTEND;TZID=Etc/GMT+0:20260305T203000
X-ALT-DESC;FMTTYPE=TEXT/HTML:
CATEGORIES:Cat 3
URL;VALUE=URI:https://sofetch.ca/mc-events/westie-meet-up-2/?mc_id=662
END:VEVENT
END:VCALENDAR