BEGIN:VCALENDAR
VERSION:2.0
PRODID:spatie/icalendar-generator
DESCRIPTION:Events from Sofetch
X-WR-CALDESC:Events from Sofetch
REFRESH-INTERVAL;VALUE=DURATION:PT1440M
X-PUBLISHED-TTL:PT1440M
BEGIN:VTIMEZONE
TZID:Etc/GMT+0
BEGIN:STANDARD
DTSTART:20250604T130000Z
TZOFFSETFROM:+0000
TZOFFSETTO:+0000
END:STANDARD
END:VTIMEZONE
BEGIN:VTIMEZONE
TZID:UTC
BEGIN:STANDARD
DTSTART:20250726T014809Z
TZOFFSETFROM:+0000
TZOFFSETTO:+0000
END:STANDARD
END:VTIMEZONE
BEGIN:VEVENT
UID:661-217
DTSTAMP:20260422T014809Z
SUMMARY:Mini Meet-Up (under 20lbs)
LOCATION:
ORGANIZER;CN=devCristina:MAILTO:cristina@pinksharkmarketing.com
DTSTART;TZID=Etc/GMT+0:20260301T130000
DTEND;TZID=Etc/GMT+0:20260301T143000
X-ALT-DESC;FMTTYPE=TEXT/HTML:
CATEGORIES:Cat 3
URL;VALUE=URI:https://sofetch.ca/mc-events/mini-meet-up-under-20lbs-4/?mc_i
 d=661
END:VEVENT
END:VCALENDAR