BEGIN:VCALENDAR
VERSION:2.0
PRODID:spatie/icalendar-generator
DESCRIPTION:Events from Sofetch
X-WR-CALDESC:Events from Sofetch
REFRESH-INTERVAL;VALUE=DURATION:PT1440M
X-PUBLISHED-TTL:PT1440M
BEGIN:VTIMEZONE
TZID:Etc/GMT+0
BEGIN:STANDARD
DTSTART:20250519T180000Z
TZOFFSETFROM:+0000
TZOFFSETTO:+0000
END:STANDARD
END:VTIMEZONE
BEGIN:VTIMEZONE
TZID:UTC
BEGIN:STANDARD
DTSTART:20250726T032529Z
TZOFFSETFROM:+0000
TZOFFSETTO:+0000
END:STANDARD
END:VTIMEZONE
BEGIN:VEVENT
UID:660-216
DTSTAMP:20260422T032529Z
SUMMARY:Lady &amp;amp\; The Tramp Valentine's Dinner Experience
LOCATION:
ORGANIZER;CN=devCristina:MAILTO:cristina@pinksharkmarketing.com
DTSTART;TZID=Etc/GMT+0:20260213T180000
DTEND;TZID=Etc/GMT+0:20260213T200000
X-ALT-DESC;FMTTYPE=TEXT/HTML:LADY &amp;amp\; THE TRAMP VALENTINE’S DINNER Spa
 ghetti. Wine. Dogs. The ultimate Valentine’s date — Lady &amp;amp\; the Tr
 amp–style — is coming to So Fetch Canine Social Club What’s included
  (per table): • 2 spaghetti &amp;amp\; meatball dinners • Bread basket &amp;am
 p\; chocolate dessert • 2 drinks (wine or beer) • 1 Dog-hetti &amp;amp\; P
 inot Pup&amp;hellip\;
CATEGORIES:Cat 1
URL;VALUE=URI:https://sofetch.ca/mc-events/lady-the-tramp-valentines-dinner
 -experience/?mc_id=660
END:VEVENT
END:VCALENDAR