BEGIN:VCALENDAR
VERSION:2.0
PRODID:spatie/icalendar-generator
DESCRIPTION:Events from Sofetch
X-WR-CALDESC:Events from Sofetch
REFRESH-INTERVAL;VALUE=DURATION:PT1440M
X-PUBLISHED-TTL:PT1440M
BEGIN:VTIMEZONE
TZID:Etc/GMT+0
BEGIN:STANDARD
DTSTART:20250408T140000Z
TZOFFSETFROM:+0000
TZOFFSETTO:+0000
END:STANDARD
END:VTIMEZONE
BEGIN:VTIMEZONE
TZID:UTC
BEGIN:STANDARD
DTSTART:20250726T034723Z
TZOFFSETFROM:+0000
TZOFFSETTO:+0000
END:STANDARD
END:VTIMEZONE
BEGIN:VEVENT
UID:608-173
DTSTAMP:20260422T034723Z
SUMMARY:DOG DISCO: NEW YEARS PAWTY!
LOCATION:
ORGANIZER;CN=devCristina:MAILTO:cristina@pinksharkmarketing.com
DTSTART;TZID=Etc/GMT+0:20260103T140000
DTEND;TZID=Etc/GMT+0:20260103T160000
X-ALT-DESC;FMTTYPE=TEXT/HTML:Celebrate New Year’s with your pups\, bubbly
  dog-friendly drinks\, and nonstop tail-wagging fun at Dog Disco! DOG DISC
 O: NEW YEARS PAWTY! Get ready to paw-ty like never before at the DOG DISCO
 : NEW YEARS PAWTY! 🎉 Bring your furry besties for an in-person celebrat
 ion filled with wagging tails and bubbly vibes. Sip on some tasty&amp;hellip\;
CATEGORIES:Cat 1
URL;VALUE=URI:https://sofetch.ca/mc-events/dog-disco-new-years-pawty/?mc_id
 =608
END:VEVENT
END:VCALENDAR