BEGIN:VCALENDAR
VERSION:2.0
PRODID:spatie/icalendar-generator
DESCRIPTION:Events from Sofetch
X-WR-CALDESC:Events from Sofetch
REFRESH-INTERVAL;VALUE=DURATION:PT1440M
X-PUBLISHED-TTL:PT1440M
BEGIN:VTIMEZONE
TZID:Etc/GMT+0
BEGIN:STANDARD
DTSTART:20250318T153000Z
TZOFFSETFROM:+0000
TZOFFSETTO:+0000
END:STANDARD
END:VTIMEZONE
BEGIN:VTIMEZONE
TZID:UTC
BEGIN:STANDARD
DTSTART:20250726T021702Z
TZOFFSETFROM:+0000
TZOFFSETTO:+0000
END:STANDARD
END:VTIMEZONE
BEGIN:VEVENT
UID:607-172
DTSTAMP:20260422T021702Z
SUMMARY:Paws It Forward Alumni Festive Meet-Up
LOCATION:
ORGANIZER;CN=devCristina:MAILTO:cristina@pinksharkmarketing.com
DTSTART;TZID=Etc/GMT+0:20251213T153000
DTEND;TZID=Etc/GMT+0:20251213T170000
X-ALT-DESC;FMTTYPE=TEXT/HTML:Paws It Forward Alumni Meet-Up Hey there\, alu
 mni! Ready to catch up and share some fun holiday memories? Join us in per
 son for the Paws It Forward Alumni Festive Meet-Up! It’s the perfect cha
 nce to reconnect\, swap stories\, and maybe make some new furry friends al
 ong the way. Don’t miss out on this casual hangout&amp;hellip\;
CATEGORIES:Cat 3
URL;VALUE=URI:https://sofetch.ca/mc-events/paws-it-forward-alumni-festive-m
 eet-up/?mc_id=607
END:VEVENT
END:VCALENDAR