BEGIN:VCALENDAR
VERSION:2.0
PRODID:spatie/icalendar-generator
DESCRIPTION:Events from Sofetch
X-WR-CALDESC:Events from Sofetch
REFRESH-INTERVAL;VALUE=DURATION:PT1440M
X-PUBLISHED-TTL:PT1440M
BEGIN:VTIMEZONE
TZID:Etc/GMT+0
BEGIN:STANDARD
DTSTART:20250407T000000Z
TZOFFSETFROM:+0000
TZOFFSETTO:+0000
END:STANDARD
END:VTIMEZONE
BEGIN:VTIMEZONE
TZID:UTC
BEGIN:STANDARD
DTSTART:20250725T215023Z
TZOFFSETFROM:+0000
TZOFFSETTO:+0000
END:STANDARD
END:VTIMEZONE
BEGIN:VEVENT
UID:604-169
DTSTAMP:20260421T215023Z
SUMMARY:EATERY &amp;amp\; LOUNGE open 11am-7pm NO BINGO!
LOCATION:
ORGANIZER;CN=devCristina:MAILTO:cristina@pinksharkmarketing.com
DTSTART;TZID=Etc/GMT+0;VALUE=DATE:20260102
DTEND;TZID=Etc/GMT+0;VALUE=DATE:20260103
X-ALT-DESC;FMTTYPE=TEXT/HTML:
CATEGORIES:General
URL;VALUE=URI:https://sofetch.ca/mc-events/eatery-lounge-open-11am-7pm-no-b
 ingo/?mc_id=604
END:VEVENT
END:VCALENDAR