BEGIN:VCALENDAR
VERSION:2.0
PRODID:spatie/icalendar-generator
DESCRIPTION:Events from Sofetch
X-WR-CALDESC:Events from Sofetch
REFRESH-INTERVAL;VALUE=DURATION:PT1440M
X-PUBLISHED-TTL:PT1440M
BEGIN:VTIMEZONE
TZID:Etc/GMT+0
BEGIN:STANDARD
DTSTART:20250402T000000Z
TZOFFSETFROM:+0000
TZOFFSETTO:+0000
END:STANDARD
END:VTIMEZONE
BEGIN:VTIMEZONE
TZID:UTC
BEGIN:STANDARD
DTSTART:20250725T184121Z
TZOFFSETFROM:+0000
TZOFFSETTO:+0000
END:STANDARD
END:VTIMEZONE
BEGIN:VEVENT
UID:602-167
DTSTAMP:20260421T184121Z
SUMMARY:EATERY &amp;amp\; LOUNGE open 11am-4pm
LOCATION:
ORGANIZER;CN=devCristina:MAILTO:cristina@pinksharkmarketing.com
DTSTART;TZID=Etc/GMT+0;VALUE=DATE:20251228
DTEND;TZID=Etc/GMT+0;VALUE=DATE:20251229
X-ALT-DESC;FMTTYPE=TEXT/HTML:
CATEGORIES:General
URL;VALUE=URI:https://sofetch.ca/mc-events/eatery-lounge-open-11am-4pm/?mc_
 id=602
END:VEVENT
END:VCALENDAR