BEGIN:VCALENDAR
VERSION:2.0
PRODID:spatie/icalendar-generator
DESCRIPTION:Events from Sofetch
X-WR-CALDESC:Events from Sofetch
REFRESH-INTERVAL;VALUE=DURATION:PT1440M
X-PUBLISHED-TTL:PT1440M
BEGIN:VTIMEZONE
TZID:Etc/GMT+0
BEGIN:STANDARD
DTSTART:20250101T120000Z
TZOFFSETFROM:+0000
TZOFFSETTO:+0000
END:STANDARD
END:VTIMEZONE
BEGIN:VTIMEZONE
TZID:UTC
BEGIN:STANDARD
DTSTART:20250723T134242Z
TZOFFSETFROM:+0000
TZOFFSETTO:+0000
END:STANDARD
END:VTIMEZONE
BEGIN:VEVENT
UID:205-123
DTSTAMP:20260419T134242Z
SUMMARY:One Year of Wag Vibes Celebration!
LOCATION:
ORGANIZER;CN=devCristina:MAILTO:cristina@pinksharkmarketing.com
DTSTART;TZID=Etc/GMT+0:20250928T120000
DTEND;TZID=Etc/GMT+0:20250928T160000
X-ALT-DESC;FMTTYPE=TEXT/HTML:🎉 So Fetch is Turning One! 🎉 We’re cel
 ebrating ONE year of Wag Vibes\, and it’s all thanks to our amazing pack
 —our pawsome community of humans and pups! 🐾 Join us Sunday\, Septemb
 er 28th\, 12–4 PM in our dog-friendly lounge (now 19+ for hoomans!) for 
 a day of treats\, tunes\, and tail wags: 🍹 Happy&amp;hellip\;
CATEGORIES:Cat 1
URL;VALUE=URI:https://sofetch.ca/mc-events/one-year-of-wag-vibes-celebratio
 n/?mc_id=205
END:VEVENT
END:VCALENDAR