BEGIN:VCALENDAR
VERSION:2.0
PRODID:spatie/icalendar-generator
DESCRIPTION:Events from Sofetch
X-WR-CALDESC:Events from Sofetch
REFRESH-INTERVAL;VALUE=DURATION:PT1440M
X-PUBLISHED-TTL:PT1440M
BEGIN:VTIMEZONE
TZID:Etc/GMT+0
BEGIN:STANDARD
DTSTART:20241224T140000Z
TZOFFSETFROM:+0000
TZOFFSETTO:+0000
END:STANDARD
END:VTIMEZONE
BEGIN:VTIMEZONE
TZID:UTC
BEGIN:STANDARD
DTSTART:20250723T163906Z
TZOFFSETFROM:+0000
TZOFFSETTO:+0000
END:STANDARD
END:VTIMEZONE
BEGIN:VEVENT
UID:203-121
DTSTAMP:20260419T163906Z
SUMMARY:Cavalier Meet-Up
LOCATION:
ORGANIZER;CN=devCristina:MAILTO:cristina@pinksharkmarketing.com
DTSTART;TZID=Etc/GMT+0:20250920T140000
DTEND;TZID=Etc/GMT+0:20250920T153000
X-ALT-DESC;FMTTYPE=TEXT/HTML:Welcome to the Cavalier Meet-Up! Come join us 
 for a paw-some gathering of Cavalier King Charles Spaniels at So Fetch Ca
 nine Social Club. It's going to be a tail-wagging good time with games\, t
 reats\, and plenty of sniffing around. Whether your Cavalier is a social b
 utterfly or a bit shy\, this event is the perfect opportunity&amp;hellip\;
CATEGORIES:Cat 3
URL;VALUE=URI:https://sofetch.ca/mc-events/cavalier-meet-up-2/?mc_id=203
END:VEVENT
END:VCALENDAR