BEGIN:VCALENDAR
VERSION:2.0
PRODID:spatie/icalendar-generator
DESCRIPTION:Events from Sofetch
X-WR-CALDESC:Events from Sofetch
REFRESH-INTERVAL;VALUE=DURATION:PT1440M
X-PUBLISHED-TTL:PT1440M
BEGIN:VTIMEZONE
TZID:Etc/GMT+0
BEGIN:STANDARD
DTSTART:20241217T140000Z
TZOFFSETFROM:+0000
TZOFFSETTO:+0000
END:STANDARD
END:VTIMEZONE
BEGIN:VTIMEZONE
TZID:UTC
BEGIN:STANDARD
DTSTART:20250723T181236Z
TZOFFSETFROM:+0000
TZOFFSETTO:+0000
END:STANDARD
END:VTIMEZONE
BEGIN:VEVENT
UID:202-120
DTSTAMP:20260419T181236Z
SUMMARY:Yorkie/Biewer Meet-Up
LOCATION:
ORGANIZER;CN=devCristina:MAILTO:cristina@pinksharkmarketing.com
DTSTART;TZID=Etc/GMT+0:20250913T140000
DTEND;TZID=Etc/GMT+0:20250913T153000
X-ALT-DESC;FMTTYPE=TEXT/HTML:Come join us for a paws-itively adorable York
 ie/Biewer Meet-Up at So Fetch Canine Social Club! This is the perfect opp
 ortunity for your little fur baby to socialize\, make new friends\, and ma
 ybe even find a puppy love connection. Whether your pup is a Yorkie\, Biew
 er\, or a mix of both\, all are welcome to attend this fun-filled&amp;hellip\;
CATEGORIES:Cat 3
URL;VALUE=URI:https://sofetch.ca/mc-events/yorkie-biewer-meet-up-3/?mc_id=2
 02
END:VEVENT
END:VCALENDAR