BEGIN:VCALENDAR
VERSION:2.0
PRODID:spatie/icalendar-generator
DESCRIPTION:Events from Sofetch
X-WR-CALDESC:Events from Sofetch
REFRESH-INTERVAL;VALUE=DURATION:PT1440M
X-PUBLISHED-TTL:PT1440M
BEGIN:VTIMEZONE
TZID:Etc/GMT+0
BEGIN:STANDARD
DTSTART:20241211T140000Z
TZOFFSETFROM:+0000
TZOFFSETTO:+0000
END:STANDARD
END:VTIMEZONE
BEGIN:VTIMEZONE
TZID:UTC
BEGIN:STANDARD
DTSTART:20250723T195825Z
TZOFFSETFROM:+0000
TZOFFSETTO:+0000
END:STANDARD
END:VTIMEZONE
BEGIN:VEVENT
UID:201-119
DTSTAMP:20260419T195825Z
SUMMARY:Mini Breed Meet-Up (under 25lbs)
LOCATION:
ORGANIZER;CN=devCristina:MAILTO:cristina@pinksharkmarketing.com
DTSTART;TZID=Etc/GMT+0:20250907T140000
DTEND;TZID=Etc/GMT+0:20250907T153000
X-ALT-DESC;FMTTYPE=TEXT/HTML:Welcome to the Mini Breed Meet-Up (under 25lbs
 )! Come join us at So Fetch Canine Social Club for a fun-filled gatherin
 g of small furry friends! Whether you have a tiny Yorkie or a petite Pomer
 anian\, all breeds under 25lbs are welcome to socialize and make new frien
 ds. Our event will feature plenty of playtime\, treats\, and maybe&amp;hellip\
 ;
CATEGORIES:Cat 3
URL;VALUE=URI:https://sofetch.ca/mc-events/mini-breed-meet-up-under-25lbs/?
 mc_id=201
END:VEVENT
END:VCALENDAR