BEGIN:VCALENDAR
VERSION:2.0
PRODID:spatie/icalendar-generator
DESCRIPTION:Events from Sofetch
X-WR-CALDESC:Events from Sofetch
REFRESH-INTERVAL;VALUE=DURATION:PT1440M
X-PUBLISHED-TTL:PT1440M
BEGIN:VTIMEZONE
TZID:Etc/GMT+0
BEGIN:STANDARD
DTSTART:20240710T130000Z
TZOFFSETFROM:+0000
TZOFFSETTO:+0000
END:STANDARD
END:VTIMEZONE
BEGIN:VTIMEZONE
TZID:UTC
BEGIN:STANDARD
DTSTART:20250725T203957Z
TZOFFSETFROM:+0000
TZOFFSETTO:+0000
END:STANDARD
END:VTIMEZONE
BEGIN:VEVENT
UID:122-91
DTSTAMP:20260421T203957Z
SUMMARY:Mini Breed Meet-Up (under 15lbs)!
LOCATION:
ORGANIZER;CN=devCristina:MAILTO:cristina@pinksharkmarketing.com
DTSTART;TZID=Etc/GMT+0:20250406T130000
DTEND;TZID=Etc/GMT+0:20250406T143000
X-ALT-DESC;FMTTYPE=TEXT/HTML:Mini Breed Meet-Up (under 15lbs)! Come join us
  for a paw-some event at So Fetch Canine Social Club! If your furry frien
 d is under 15lbs\, this meet-up is the perfect opportunity for them to soc
 ialize with other small pups. Let them make new friends and have a tail-wa
 gging good time! Don't miss out on this chance&amp;hellip\;
CATEGORIES:Cat 3
URL;VALUE=URI:https://sofetch.ca/mc-events/mini-breed-meet-up-under-15lbs/?
 mc_id=122
END:VEVENT
END:VCALENDAR