BEGIN:VCALENDAR
VERSION:2.0
PRODID:spatie/icalendar-generator
DESCRIPTION:Events from Sofetch
X-WR-CALDESC:Events from Sofetch
REFRESH-INTERVAL;VALUE=DURATION:PT1440M
X-PUBLISHED-TTL:PT1440M
BEGIN:VTIMEZONE
TZID:Etc/GMT+0
BEGIN:STANDARD
DTSTART:20240618T130000Z
TZOFFSETFROM:+0000
TZOFFSETTO:+0000
END:STANDARD
END:VTIMEZONE
BEGIN:VTIMEZONE
TZID:UTC
BEGIN:STANDARD
DTSTART:20250725T083339Z
TZOFFSETFROM:+0000
TZOFFSETTO:+0000
END:STANDARD
END:VTIMEZONE
BEGIN:VEVENT
UID:118-87
DTSTAMP:20260421T083339Z
SUMMARY:Pawcasso Paint Pop-Up!
LOCATION:
ORGANIZER;CN=devCristina:MAILTO:cristina@pinksharkmarketing.com
DTSTART;TZID=Etc/GMT+0:20250315T130000
DTEND;TZID=Etc/GMT+0:20250315T140000
X-ALT-DESC;FMTTYPE=TEXT/HTML:Pawcasso Paint Pop-Up! is the ultimate event 
 for dog lovers and art enthusiasts alike! Join us at So Fetch Canine Soci
 al Club for an afternoon of creativity and fun. Let your furry friend unl
 eash their inner artist as they create a masterpiece. This in-person eve
 nt is a paw-some way to bond with your pup and meet other dog lovers in&amp;he
 llip\;
CATEGORIES:Cat 1
URL;VALUE=URI:https://sofetch.ca/mc-events/pawcasso-paint-pop-up-2/?mc_id=1
 18
END:VEVENT
END:VCALENDAR