BEGIN:VCALENDAR
VERSION:2.0
PRODID:spatie/icalendar-generator
DESCRIPTION:Events from Sofetch
X-WR-CALDESC:Events from Sofetch
REFRESH-INTERVAL;VALUE=DURATION:PT1440M
X-PUBLISHED-TTL:PT1440M
BEGIN:VTIMEZONE
TZID:Etc/GMT+0
BEGIN:STANDARD
DTSTART:20240611T130000Z
TZOFFSETFROM:+0000
TZOFFSETTO:+0000
END:STANDARD
END:VTIMEZONE
BEGIN:VTIMEZONE
TZID:UTC
BEGIN:STANDARD
DTSTART:20250725T083332Z
TZOFFSETFROM:+0000
TZOFFSETTO:+0000
END:STANDARD
END:VTIMEZONE
BEGIN:VEVENT
UID:117-86
DTSTAMP:20260421T083332Z
SUMMARY:PAINT + SIP: Boho Sketch at So Fetch!
LOCATION:
ORGANIZER;CN=devCristina:MAILTO:cristina@pinksharkmarketing.com
DTSTART;TZID=Etc/GMT+0:20250308T130000
DTEND;TZID=Etc/GMT+0:20250308T153000
X-ALT-DESC;FMTTYPE=TEXT/HTML:PAINT + SIP: Boho Sketch at So Fetch! Come joi
 n us for a fun and creative evening at So Fetch Canine Social Club! Let y
 our inner artist shine as you are guided through a boho-inspired sketch se
 ssion with Boho Sketch Co. No experience necessary - just bring your creat
 ivity and we'll provide all the materials. Sip&amp;hellip\;
CATEGORIES:Cat 1
URL;VALUE=URI:https://sofetch.ca/mc-events/paint-sip-boho-sketch-at-so-fetc
 h/?mc_id=117
END:VEVENT
END:VCALENDAR