BEGIN:VCALENDAR
VERSION:2.0
PRODID:spatie/icalendar-generator
DESCRIPTION:Events from Sofetch
X-WR-CALDESC:Events from Sofetch
REFRESH-INTERVAL;VALUE=DURATION:PT1440M
X-PUBLISHED-TTL:PT1440M
BEGIN:VTIMEZONE
TZID:Etc/GMT+0
BEGIN:STANDARD
DTSTART:20250108T140000Z
TZOFFSETFROM:+0000
TZOFFSETTO:+0000
END:STANDARD
END:VTIMEZONE
BEGIN:VTIMEZONE
TZID:UTC
BEGIN:STANDARD
DTSTART:20250725T083817Z
TZOFFSETFROM:+0000
TZOFFSETTO:+0000
END:STANDARD
END:VTIMEZONE
BEGIN:VEVENT
UID:208-126
DTSTAMP:20260421T083817Z
SUMMARY:Mini Meet-Up (under 25lbs)
LOCATION:
ORGANIZER;CN=devCristina:MAILTO:cristina@pinksharkmarketing.com
DTSTART;TZID=Etc/GMT+0:20251005T140000
DTEND;TZID=Etc/GMT+0:20251005T153000
X-ALT-DESC;FMTTYPE=TEXT/HTML:Come join us at So Fetch Canine Social Club 
 for a fun-filled gathering of small pups! Whether your furry friend is a C
 hihuahua\, Dachshund\, or Pomeranian\, this event is the perfect opportuni
 ty for them to make new friends and socialize in a safe environment. Let y
 our pup roam free and interact with other pint-sized pals while you&amp;hellip
 \;
CATEGORIES:Cat 3
URL;VALUE=URI:https://sofetch.ca/mc-events/mini-meet-up-under-25lbs/?mc_id=
 208
END:VEVENT
END:VCALENDAR