BEGIN:VCALENDAR
VERSION:2.0
PRODID:spatie/icalendar-generator
DESCRIPTION:Events from Sofetch
X-WR-CALDESC:Events from Sofetch
REFRESH-INTERVAL;VALUE=DURATION:PT1440M
X-PUBLISHED-TTL:PT1440M
BEGIN:VTIMEZONE
TZID:Etc/GMT+0
BEGIN:STANDARD
DTSTART:20241231T140000Z
TZOFFSETFROM:+0000
TZOFFSETTO:+0000
END:STANDARD
END:VTIMEZONE
BEGIN:VTIMEZONE
TZID:UTC
BEGIN:STANDARD
DTSTART:20250723T162508Z
TZOFFSETFROM:+0000
TZOFFSETTO:+0000
END:STANDARD
END:VTIMEZONE
BEGIN:VEVENT
UID:204-122
DTSTAMP:20260419T162508Z
SUMMARY:Frenchie Meet-Up
LOCATION:
ORGANIZER;CN=devCristina:MAILTO:cristina@pinksharkmarketing.com
DTSTART;TZID=Etc/GMT+0:20250927T140000
DTEND;TZID=Etc/GMT+0:20250927T153000
X-ALT-DESC;FMTTYPE=TEXT/HTML:Welcome to the Frenchie Breed Meet-Up! Join u
 s at So Fetch Canine Social Club for a pawsitively awesome time with fel
 low French Bulldog enthusiasts. This in-person event is a tail-wagging opp
 ortunity for Frenchies and their humans to mingle\, play\, and make new fr
 iends. Whether your Frenchie is a social butterfly or a little more on the
  shy side\,&amp;hellip\;
CATEGORIES:Cat 3
URL;VALUE=URI:https://sofetch.ca/mc-events/frenchie-meet-up-4/?mc_id=204
END:VEVENT
END:VCALENDAR