BEGIN:VCALENDAR
VERSION:2.0
PRODID:spatie/icalendar-generator
DESCRIPTION:Events from Sofetch
X-WR-CALDESC:Events from Sofetch
REFRESH-INTERVAL;VALUE=DURATION:PT1440M
X-PUBLISHED-TTL:PT1440M
BEGIN:VTIMEZONE
TZID:Etc/GMT+0
BEGIN:STANDARD
DTSTART:20241105T140000Z
TZOFFSETFROM:+0000
TZOFFSETTO:+0000
END:STANDARD
END:VTIMEZONE
BEGIN:VTIMEZONE
TZID:UTC
BEGIN:STANDARD
DTSTART:20250723T231258Z
TZOFFSETFROM:+0000
TZOFFSETTO:+0000
END:STANDARD
END:VTIMEZONE
BEGIN:VEVENT
UID:200-118
DTSTAMP:20260419T231258Z
SUMMARY:Booze Hounds: The Glow Up! Live Music
LOCATION:
ORGANIZER;CN=devCristina:MAILTO:cristina@pinksharkmarketing.com
DTSTART;TZID=Etc/GMT+0:20250802T140000
DTEND;TZID=Etc/GMT+0:20250802T160000
X-ALT-DESC;FMTTYPE=TEXT/HTML:Booze Hounds: The Glow Up! We got our liquor l
 icense..... and it's giving mocktail-to-cocktail era. Saturday\, August 2n
 d . 2-4 Live Music. 19+ only! - Dog-Friendly Indoors! Happy Hour All day! 
 We're officially pouring - and youre invited to celebrate the So Fetch glo
 w-up with an afternoon of happy hour\, tunes\, and good vibes. Upside&amp;hell
 ip\;
CATEGORIES:Cat 1
URL;VALUE=URI:https://sofetch.ca/mc-events/booze-hounds-the-glow-up-live-mu
 sic/?mc_id=200
END:VEVENT
END:VCALENDAR