BEGIN:VCALENDAR
VERSION:2.0
PRODID:spatie/icalendar-generator
DESCRIPTION:Events from Sofetch
X-WR-CALDESC:Events from Sofetch
REFRESH-INTERVAL;VALUE=DURATION:PT1440M
X-PUBLISHED-TTL:PT1440M
BEGIN:VTIMEZONE
TZID:Etc/GMT+0
BEGIN:STANDARD
DTSTART:20240713T130000Z
TZOFFSETFROM:+0000
TZOFFSETTO:+0000
END:STANDARD
END:VTIMEZONE
BEGIN:VTIMEZONE
TZID:UTC
BEGIN:STANDARD
DTSTART:20250725T222214Z
TZOFFSETFROM:+0000
TZOFFSETTO:+0000
END:STANDARD
END:VTIMEZONE
BEGIN:VEVENT
UID:123-92
DTSTAMP:20260421T222214Z
SUMMARY:Cocker Spaniel Meet-Up
LOCATION:
ORGANIZER;CN=devCristina:MAILTO:cristina@pinksharkmarketing.com
DTSTART;TZID=Etc/GMT+0:20250409T130000
DTEND;TZID=Etc/GMT+0:20250409T143000
X-ALT-DESC;FMTTYPE=TEXT/HTML:Welcome to the Cocker Spaniel Meet-Up! Join us
  at the So Fetch Canine Social Club for a paw-some gathering of Cocker S
 paniels and their humans. It's a tail-wagging good time for all! Whether y
 our Cocker Spaniel is a social butterfly or a bit shy\, this event is the 
 perfect opportunity for them to make new furry friends.&amp;hellip\;
CATEGORIES:Cat 3
URL;VALUE=URI:https://sofetch.ca/mc-events/cocker-spaniel-meet-up/?mc_id=12
 3
END:VEVENT
END:VCALENDAR