BEGIN:VCALENDAR
VERSION:2.0
PRODID:spatie/icalendar-generator
DESCRIPTION:Events from Sofetch
X-WR-CALDESC:Events from Sofetch
REFRESH-INTERVAL;VALUE=DURATION:PT1440M
X-PUBLISHED-TTL:PT1440M
BEGIN:VTIMEZONE
TZID:Etc/GMT+0
BEGIN:STANDARD
DTSTART:20240709T130000Z
TZOFFSETFROM:+0000
TZOFFSETTO:+0000
END:STANDARD
END:VTIMEZONE
BEGIN:VTIMEZONE
TZID:UTC
BEGIN:STANDARD
DTSTART:20250725T191320Z
TZOFFSETFROM:+0000
TZOFFSETTO:+0000
END:STANDARD
END:VTIMEZONE
BEGIN:VEVENT
UID:121-90
DTSTAMP:20260421T191320Z
SUMMARY:Schnauzer Meet-Up
LOCATION:
ORGANIZER;CN=devCristina:MAILTO:cristina@pinksharkmarketing.com
DTSTART;TZID=Etc/GMT+0:20250405T130000
DTEND;TZID=Etc/GMT+0:20250405T143000
X-ALT-DESC;FMTTYPE=TEXT/HTML:Schnauzer Meet-Up Come join us at So Fetch Ca
 nine Social Club for a paw-some Schnauzer Meet-Up! It's a tail-wagging go
 od time for all Schnauzer enthusiasts. Whether your Schnauzer is a show do
 g or just a beloved family pet\, this event is for you. Meet other Schnauz
 er lovers\, share stories\, and watch your furry friends make new pals.&amp;he
 llip\;
CATEGORIES:Cat 3
URL;VALUE=URI:https://sofetch.ca/mc-events/schnauzer-meet-up-2/?mc_id=121
END:VEVENT
END:VCALENDAR