BEGIN:VCALENDAR
VERSION:2.0
PRODID:spatie/icalendar-generator
DESCRIPTION:Events from Sofetch
X-WR-CALDESC:Events from Sofetch
REFRESH-INTERVAL;VALUE=DURATION:PT1440M
X-PUBLISHED-TTL:PT1440M
BEGIN:VTIMEZONE
TZID:Etc/GMT+0
BEGIN:STANDARD
DTSTART:20240708T173000Z
TZOFFSETFROM:+0000
TZOFFSETTO:+0000
END:STANDARD
END:VTIMEZONE
BEGIN:VTIMEZONE
TZID:UTC
BEGIN:STANDARD
DTSTART:20250725T172736Z
TZOFFSETFROM:+0000
TZOFFSETTO:+0000
END:STANDARD
END:VTIMEZONE
BEGIN:VEVENT
UID:120-89
DTSTAMP:20260421T172736Z
SUMMARY:Mexican Breeds Meet-Up
LOCATION:
ORGANIZER;CN=devCristina:MAILTO:cristina@pinksharkmarketing.com
DTSTART;TZID=Etc/GMT+0:20250404T173000
DTEND;TZID=Etc/GMT+0:20250404T190000
X-ALT-DESC;FMTTYPE=TEXT/HTML:Welcome to the Mexican Dog Breeds Meet-Up! Dat
 e: Friday\, April 4th Time: 5:30-7:00pm Location: So Fetch Canine Socia
 l Club Come join us for a pawsome gathering of Mexican dog breeds! Whether
  you have a Chihuahua\, Xoloitzcuintli\, or any other Mexican breed\, this
  event is the perfect opportunity for your furry friend to socialize and m
 ake new amigos. Let's&amp;hellip\;
CATEGORIES:Cat 3
URL;VALUE=URI:https://sofetch.ca/mc-events/mexican-breeds-meet-up/?mc_id=12
 0
END:VEVENT
END:VCALENDAR