BEGIN:VCALENDAR
VERSION:2.0
PRODID:spatie/icalendar-generator
DESCRIPTION:Events from Sofetch
X-WR-CALDESC:Events from Sofetch
REFRESH-INTERVAL;VALUE=DURATION:PT1440M
X-PUBLISHED-TTL:PT1440M
BEGIN:VTIMEZONE
TZID:Etc/GMT+0
BEGIN:STANDARD
DTSTART:20240707T173000Z
TZOFFSETFROM:+0000
TZOFFSETTO:+0000
END:STANDARD
END:VTIMEZONE
BEGIN:VTIMEZONE
TZID:UTC
BEGIN:STANDARD
DTSTART:20250725T154746Z
TZOFFSETFROM:+0000
TZOFFSETTO:+0000
END:STANDARD
END:VTIMEZONE
BEGIN:VEVENT
UID:119-88
DTSTAMP:20260421T154746Z
SUMMARY:Bully Breed Meet-Up
LOCATION:
ORGANIZER;CN=devCristina:MAILTO:cristina@pinksharkmarketing.com
DTSTART;TZID=Etc/GMT+0:20250403T173000
DTEND;TZID=Etc/GMT+0:20250403T190000
X-ALT-DESC;FMTTYPE=TEXT/HTML:Welcome to the Bully Breed Meet-Up! Calling a
 ll proud owners of bully breeds to come together for a fun day at the S
 o Fetch Canine Social Club. Let's celebrate these amazing pups and enjoy a
  day filled with tail wags and playtime. Whether you have an American 
 Bully\, Pit Bull\, Bulldog\, Boxer\, or any other bully breed\, this ev
 ent is for you! Come mingle with other bully&amp;hellip\;
CATEGORIES:Cat 3
URL;VALUE=URI:https://sofetch.ca/mc-events/bully-breed-meet-up/?mc_id=119
END:VEVENT
END:VCALENDAR